BEGIN:VCALENDAR
VERSION:2.0
PRODID:spatie/icalendar-generator
DESCRIPTION:Events from mvasaudubon.org
X-WR-CALDESC:Events from mvasaudubon.org
REFRESH-INTERVAL;VALUE=DURATION:PT1440M
X-PUBLISHED-TTL:PT1440M
BEGIN:VTIMEZONE
TZID:Etc/GMT+0
BEGIN:STANDARD
DTSTART:20250524T190000Z
TZOFFSETFROM:+0000
TZOFFSETTO:+0000
END:STANDARD
END:VTIMEZONE
BEGIN:VTIMEZONE
TZID:UTC
BEGIN:STANDARD
DTSTART:20250725T084103Z
TZOFFSETFROM:+0000
TZOFFSETTO:+0000
END:STANDARD
END:VTIMEZONE
BEGIN:VEVENT
UID:6-3
DTSTAMP:20260421T084103Z
SUMMARY:Monthly member meeting with special guest speaker Isaiah Meza
LOCATION:Zoom Only
ORGANIZER;CN=lmbirder102@gmail.com:MAILTO:lmbirder102@gmail.com
DTSTART;TZID=Etc/GMT+0:20260218T190000
DTEND;TZID=Etc/GMT+0:20260218T200000
X-ALT-DESC;FMTTYPE=TEXT/HTML:Monthly member meeting with special guest spea
 ker Isaiah Meza\, of Audubon Southwest\, who will speak about how Audubon
  is working with ranchers to improve habitat for birds. The meeting will b
 e held in person at NMSU Knox Hall and on Zoom. Additional details and the
  Zoom link will be sent out closer to the meeting date. &amp;hellip\;
CATEGORIES:General
URL;VALUE=URI:https://mvasaudubon.org/mc-events/monthly-member-meeting-with
 -special-guest-speaker-isaiah-meza/
METHOD:PUBLISH
END:VEVENT
END:VCALENDAR